BEGIN:VCALENDAR
VERSION:2.0
PRODID:-//FolkWorks - ECPv6.15.17.1//NONSGML v1.0//EN
CALSCALE:GREGORIAN
METHOD:PUBLISH
X-WR-CALNAME:FolkWorks
X-ORIGINAL-URL:https://folkworks.org
X-WR-CALDESC:Events for FolkWorks
REFRESH-INTERVAL;VALUE=DURATION:PT1H
X-Robots-Tag:noindex
X-PUBLISHED-TTL:PT1H
BEGIN:VTIMEZONE
TZID:America/Los_Angeles
BEGIN:DAYLIGHT
TZOFFSETFROM:-0800
TZOFFSETTO:-0700
TZNAME:PDT
DTSTART:20240310T100000
END:DAYLIGHT
BEGIN:STANDARD
TZOFFSETFROM:-0700
TZOFFSETTO:-0800
TZNAME:PST
DTSTART:20241103T090000
END:STANDARD
BEGIN:DAYLIGHT
TZOFFSETFROM:-0800
TZOFFSETTO:-0700
TZNAME:PDT
DTSTART:20250309T100000
END:DAYLIGHT
BEGIN:STANDARD
TZOFFSETFROM:-0700
TZOFFSETTO:-0800
TZNAME:PST
DTSTART:20251102T090000
END:STANDARD
BEGIN:DAYLIGHT
TZOFFSETFROM:-0800
TZOFFSETTO:-0700
TZNAME:PDT
DTSTART:20260308T100000
END:DAYLIGHT
BEGIN:STANDARD
TZOFFSETFROM:-0700
TZOFFSETTO:-0800
TZNAME:PST
DTSTART:20261101T090000
END:STANDARD
BEGIN:DAYLIGHT
TZOFFSETFROM:-0800
TZOFFSETTO:-0700
TZNAME:PDT
DTSTART:20270314T100000
END:DAYLIGHT
BEGIN:STANDARD
TZOFFSETFROM:-0700
TZOFFSETTO:-0800
TZNAME:PST
DTSTART:20271107T090000
END:STANDARD
END:VTIMEZONE
BEGIN:VEVENT
DTSTART;TZID=America/Los_Angeles:20250915T190000
DTEND;TZID=America/Los_Angeles:20250915T200000
DTSTAMP:20260420T093919
CREATED:20250801T233802Z
LAST-MODIFIED:20250801T233802Z
UID:10008677-1757962800-1757966400@folkworks.org
SUMMARY:TEAM TAIKO Drum Classes Fall Session
DESCRIPTION:Team Taiko is open to all skill levels and abilities\, from beginners to seasoned musicians. Classes are recommended for ages 12 and up; children must either participate with a guardian or have a participation waiver signed before class. \nClasses are offered in person and streamed live via Zoom to allow for all to participate.
URL:https://folkworks.org/event/team-taiko-drum-classes-fall-session/2025-09-15/
LOCATION:The Grand Annex\, 434 W. 6th St.\, San Pedro\, CA\, 90713\, United States
CATEGORIES:Music
ATTACH;FMTTYPE=image/jpeg:https://folkworks.org/wp-content/uploads/2025/07/2019-Annex-ARUGAKKI-PM.jpg
ORGANIZER;CN="Grand Vision Foundation":MAILTO:Info@grandvision.org
END:VEVENT
BEGIN:VEVENT
DTSTART;TZID=America/Los_Angeles:20250922T190000
DTEND;TZID=America/Los_Angeles:20250922T200000
DTSTAMP:20260420T093919
CREATED:20250801T233802Z
LAST-MODIFIED:20250801T233802Z
UID:10008678-1758567600-1758571200@folkworks.org
SUMMARY:TEAM TAIKO Drum Classes Fall Session
DESCRIPTION:Team Taiko is open to all skill levels and abilities\, from beginners to seasoned musicians. Classes are recommended for ages 12 and up; children must either participate with a guardian or have a participation waiver signed before class. \nClasses are offered in person and streamed live via Zoom to allow for all to participate.
URL:https://folkworks.org/event/team-taiko-drum-classes-fall-session/2025-09-22/
LOCATION:The Grand Annex\, 434 W. 6th St.\, San Pedro\, CA\, 90713\, United States
CATEGORIES:Music
ATTACH;FMTTYPE=image/jpeg:https://folkworks.org/wp-content/uploads/2025/07/2019-Annex-ARUGAKKI-PM.jpg
ORGANIZER;CN="Grand Vision Foundation":MAILTO:Info@grandvision.org
END:VEVENT
BEGIN:VEVENT
DTSTART;TZID=America/Los_Angeles:20250926T200000
DTEND;TZID=America/Los_Angeles:20250926T223000
DTSTAMP:20260420T093919
CREATED:20250801T233224Z
LAST-MODIFIED:20250801T233224Z
UID:10008672-1758916800-1758925800@folkworks.org
SUMMARY:Ryanhood
DESCRIPTION:USA Songwriting Competition Finalists bring their pop-rock melodies and powerful guitar riffs reminiscent of the Dave Matthews Band. \nPre-Concert Wine Tasting Led by Jean Philippe Molinari.
URL:https://folkworks.org/event/ryanhood/
LOCATION:The Grand Annex\, 434 W. 6th St.\, San Pedro\, CA\, 90713\, United States
CATEGORIES:Music
ATTACH;FMTTYPE=image/png:https://folkworks.org/wp-content/uploads/2025/07/Ryanhood.png
ORGANIZER;CN="Grand Vision Foundation":MAILTO:Info@grandvision.org
END:VEVENT
BEGIN:VEVENT
DTSTART;TZID=America/Los_Angeles:20250929T190000
DTEND;TZID=America/Los_Angeles:20250929T200000
DTSTAMP:20260420T093919
CREATED:20250801T233802Z
LAST-MODIFIED:20250801T233802Z
UID:10008679-1759172400-1759176000@folkworks.org
SUMMARY:TEAM TAIKO Drum Classes Fall Session
DESCRIPTION:Team Taiko is open to all skill levels and abilities\, from beginners to seasoned musicians. Classes are recommended for ages 12 and up; children must either participate with a guardian or have a participation waiver signed before class. \nClasses are offered in person and streamed live via Zoom to allow for all to participate.
URL:https://folkworks.org/event/team-taiko-drum-classes-fall-session/2025-09-29/
LOCATION:The Grand Annex\, 434 W. 6th St.\, San Pedro\, CA\, 90713\, United States
CATEGORIES:Music
ATTACH;FMTTYPE=image/jpeg:https://folkworks.org/wp-content/uploads/2025/07/2019-Annex-ARUGAKKI-PM.jpg
ORGANIZER;CN="Grand Vision Foundation":MAILTO:Info@grandvision.org
END:VEVENT
BEGIN:VEVENT
DTSTART;TZID=America/Los_Angeles:20251006T190000
DTEND;TZID=America/Los_Angeles:20251006T200000
DTSTAMP:20260420T093919
CREATED:20250801T233802Z
LAST-MODIFIED:20250801T233802Z
UID:10008680-1759777200-1759780800@folkworks.org
SUMMARY:TEAM TAIKO Drum Classes Fall Session
DESCRIPTION:Team Taiko is open to all skill levels and abilities\, from beginners to seasoned musicians. Classes are recommended for ages 12 and up; children must either participate with a guardian or have a participation waiver signed before class. \nClasses are offered in person and streamed live via Zoom to allow for all to participate.
URL:https://folkworks.org/event/team-taiko-drum-classes-fall-session/2025-10-06/
LOCATION:The Grand Annex\, 434 W. 6th St.\, San Pedro\, CA\, 90713\, United States
CATEGORIES:Music
ATTACH;FMTTYPE=image/jpeg:https://folkworks.org/wp-content/uploads/2025/07/2019-Annex-ARUGAKKI-PM.jpg
ORGANIZER;CN="Grand Vision Foundation":MAILTO:Info@grandvision.org
END:VEVENT
BEGIN:VEVENT
DTSTART;TZID=America/Los_Angeles:20251013T190000
DTEND;TZID=America/Los_Angeles:20251013T200000
DTSTAMP:20260420T093919
CREATED:20250801T233802Z
LAST-MODIFIED:20250801T233802Z
UID:10008681-1760382000-1760385600@folkworks.org
SUMMARY:TEAM TAIKO Drum Classes Fall Session
DESCRIPTION:Team Taiko is open to all skill levels and abilities\, from beginners to seasoned musicians. Classes are recommended for ages 12 and up; children must either participate with a guardian or have a participation waiver signed before class. \nClasses are offered in person and streamed live via Zoom to allow for all to participate.
URL:https://folkworks.org/event/team-taiko-drum-classes-fall-session/2025-10-13/
LOCATION:The Grand Annex\, 434 W. 6th St.\, San Pedro\, CA\, 90713\, United States
CATEGORIES:Music
ATTACH;FMTTYPE=image/jpeg:https://folkworks.org/wp-content/uploads/2025/07/2019-Annex-ARUGAKKI-PM.jpg
ORGANIZER;CN="Grand Vision Foundation":MAILTO:Info@grandvision.org
END:VEVENT
BEGIN:VEVENT
DTSTART;TZID=America/Los_Angeles:20251020T190000
DTEND;TZID=America/Los_Angeles:20251020T200000
DTSTAMP:20260420T093919
CREATED:20250801T233802Z
LAST-MODIFIED:20250801T233802Z
UID:10008682-1760986800-1760990400@folkworks.org
SUMMARY:TEAM TAIKO Drum Classes Fall Session
DESCRIPTION:Team Taiko is open to all skill levels and abilities\, from beginners to seasoned musicians. Classes are recommended for ages 12 and up; children must either participate with a guardian or have a participation waiver signed before class. \nClasses are offered in person and streamed live via Zoom to allow for all to participate.
URL:https://folkworks.org/event/team-taiko-drum-classes-fall-session/2025-10-20/
LOCATION:The Grand Annex\, 434 W. 6th St.\, San Pedro\, CA\, 90713\, United States
CATEGORIES:Music
ATTACH;FMTTYPE=image/jpeg:https://folkworks.org/wp-content/uploads/2025/07/2019-Annex-ARUGAKKI-PM.jpg
ORGANIZER;CN="Grand Vision Foundation":MAILTO:Info@grandvision.org
END:VEVENT
BEGIN:VEVENT
DTSTART;TZID=America/Los_Angeles:20251027T190000
DTEND;TZID=America/Los_Angeles:20251027T200000
DTSTAMP:20260420T093919
CREATED:20250801T233802Z
LAST-MODIFIED:20250801T233802Z
UID:10008683-1761591600-1761595200@folkworks.org
SUMMARY:TEAM TAIKO Drum Classes Fall Session
DESCRIPTION:Team Taiko is open to all skill levels and abilities\, from beginners to seasoned musicians. Classes are recommended for ages 12 and up; children must either participate with a guardian or have a participation waiver signed before class. \nClasses are offered in person and streamed live via Zoom to allow for all to participate.
URL:https://folkworks.org/event/team-taiko-drum-classes-fall-session/2025-10-27/
LOCATION:The Grand Annex\, 434 W. 6th St.\, San Pedro\, CA\, 90713\, United States
CATEGORIES:Music
ATTACH;FMTTYPE=image/jpeg:https://folkworks.org/wp-content/uploads/2025/07/2019-Annex-ARUGAKKI-PM.jpg
ORGANIZER;CN="Grand Vision Foundation":MAILTO:Info@grandvision.org
END:VEVENT
BEGIN:VEVENT
DTSTART;TZID=America/Los_Angeles:20251103T190000
DTEND;TZID=America/Los_Angeles:20251103T200000
DTSTAMP:20260420T093919
CREATED:20250801T233802Z
LAST-MODIFIED:20250801T233802Z
UID:10008684-1762196400-1762200000@folkworks.org
SUMMARY:TEAM TAIKO Drum Classes Fall Session
DESCRIPTION:Team Taiko is open to all skill levels and abilities\, from beginners to seasoned musicians. Classes are recommended for ages 12 and up; children must either participate with a guardian or have a participation waiver signed before class. \nClasses are offered in person and streamed live via Zoom to allow for all to participate.
URL:https://folkworks.org/event/team-taiko-drum-classes-fall-session/2025-11-03/
LOCATION:The Grand Annex\, 434 W. 6th St.\, San Pedro\, CA\, 90713\, United States
CATEGORIES:Music
ATTACH;FMTTYPE=image/jpeg:https://folkworks.org/wp-content/uploads/2025/07/2019-Annex-ARUGAKKI-PM.jpg
ORGANIZER;CN="Grand Vision Foundation":MAILTO:Info@grandvision.org
END:VEVENT
BEGIN:VEVENT
DTSTART;TZID=America/Los_Angeles:20260202T190000
DTEND;TZID=America/Los_Angeles:20260202T200000
DTSTAMP:20260420T093919
CREATED:20260121T012752Z
LAST-MODIFIED:20260121T012752Z
UID:10008721-1770058800-1770062400@folkworks.org
SUMMARY:FREE Intro to Team Taiko & Japanese Drum Care
DESCRIPTION:Learn about Taiko and how to care for Taiko drums and bachi (drumsticks) and how to make a practice drum in this introductory session.
URL:https://folkworks.org/event/free-intro-to-team-taiko-japanese-drum-care/
LOCATION:The Grand Annex\, 434 W. 6th St.\, San Pedro\, CA\, 90713\, United States
CATEGORIES:Music
ATTACH;FMTTYPE=image/webp:https://folkworks.org/wp-content/uploads/2026/01/24-Fall-Website-Image-3-1.webp
ORGANIZER;CN="Grand Vision Foundation":MAILTO:Info@grandvision.org
END:VEVENT
BEGIN:VEVENT
DTSTART;TZID=America/Los_Angeles:20260209T183000
DTEND;TZID=America/Los_Angeles:20260209T193000
DTSTAMP:20260420T093920
CREATED:20260121T012849Z
LAST-MODIFIED:20260121T012849Z
UID:10008722-1770661800-1770665400@folkworks.org
SUMMARY:TEAM TAIKO Drum Classes Winter Session
DESCRIPTION:Play the Japanese Drum with Team Taiko!\nWinter Session Mondays at 6:30 PM February 9 – March 30: \nTeam Taiko classes are broken into 8-week sessions\, with a different pattern taught during each session. Team Taiko can be purchased by session or by class. \n\nMonday\, February 9 – 6:30 PM\nMonday\, February 16 – 6:30 PM\nMonday\, February 23 – 6:30 PM\nMonday\, March 2 – 6:30 PM\nMonday\, March 9 – 6:30 PM\nMonday\, March 16 – 6:30 PM\nMonday\, March 23 – 6:30 PM\nMonday\, March 30 – 6:30 PM
URL:https://folkworks.org/event/team-taiko-drum-classes-winter-session/2026-02-09/
LOCATION:The Grand Annex\, 434 W. 6th St.\, San Pedro\, CA\, 90713\, United States
CATEGORIES:Music
ATTACH;FMTTYPE=image/webp:https://folkworks.org/wp-content/uploads/2026/01/24-Fall-Website-Image-3-1.webp
ORGANIZER;CN="Grand Vision Foundation":MAILTO:Info@grandvision.org
END:VEVENT
BEGIN:VEVENT
DTSTART;TZID=America/Los_Angeles:20260216T183000
DTEND;TZID=America/Los_Angeles:20260216T193000
DTSTAMP:20260420T093920
CREATED:20260121T012849Z
LAST-MODIFIED:20260121T012849Z
UID:10008723-1771266600-1771270200@folkworks.org
SUMMARY:TEAM TAIKO Drum Classes Winter Session
DESCRIPTION:Play the Japanese Drum with Team Taiko!\nWinter Session Mondays at 6:30 PM February 9 – March 30: \nTeam Taiko classes are broken into 8-week sessions\, with a different pattern taught during each session. Team Taiko can be purchased by session or by class. \n\nMonday\, February 9 – 6:30 PM\nMonday\, February 16 – 6:30 PM\nMonday\, February 23 – 6:30 PM\nMonday\, March 2 – 6:30 PM\nMonday\, March 9 – 6:30 PM\nMonday\, March 16 – 6:30 PM\nMonday\, March 23 – 6:30 PM\nMonday\, March 30 – 6:30 PM
URL:https://folkworks.org/event/team-taiko-drum-classes-winter-session/2026-02-16/
LOCATION:The Grand Annex\, 434 W. 6th St.\, San Pedro\, CA\, 90713\, United States
CATEGORIES:Music
ATTACH;FMTTYPE=image/webp:https://folkworks.org/wp-content/uploads/2026/01/24-Fall-Website-Image-3-1.webp
ORGANIZER;CN="Grand Vision Foundation":MAILTO:Info@grandvision.org
END:VEVENT
BEGIN:VEVENT
DTSTART;TZID=America/Los_Angeles:20260223T183000
DTEND;TZID=America/Los_Angeles:20260223T193000
DTSTAMP:20260420T093920
CREATED:20260121T012849Z
LAST-MODIFIED:20260121T012849Z
UID:10008724-1771871400-1771875000@folkworks.org
SUMMARY:TEAM TAIKO Drum Classes Winter Session
DESCRIPTION:Play the Japanese Drum with Team Taiko!\nWinter Session Mondays at 6:30 PM February 9 – March 30: \nTeam Taiko classes are broken into 8-week sessions\, with a different pattern taught during each session. Team Taiko can be purchased by session or by class. \n\nMonday\, February 9 – 6:30 PM\nMonday\, February 16 – 6:30 PM\nMonday\, February 23 – 6:30 PM\nMonday\, March 2 – 6:30 PM\nMonday\, March 9 – 6:30 PM\nMonday\, March 16 – 6:30 PM\nMonday\, March 23 – 6:30 PM\nMonday\, March 30 – 6:30 PM
URL:https://folkworks.org/event/team-taiko-drum-classes-winter-session/2026-02-23/
LOCATION:The Grand Annex\, 434 W. 6th St.\, San Pedro\, CA\, 90713\, United States
CATEGORIES:Music
ATTACH;FMTTYPE=image/webp:https://folkworks.org/wp-content/uploads/2026/01/24-Fall-Website-Image-3-1.webp
ORGANIZER;CN="Grand Vision Foundation":MAILTO:Info@grandvision.org
END:VEVENT
BEGIN:VEVENT
DTSTART;TZID=America/Los_Angeles:20260302T183000
DTEND;TZID=America/Los_Angeles:20260302T193000
DTSTAMP:20260420T093920
CREATED:20260121T012849Z
LAST-MODIFIED:20260121T012849Z
UID:10008725-1772476200-1772479800@folkworks.org
SUMMARY:TEAM TAIKO Drum Classes Winter Session
DESCRIPTION:Play the Japanese Drum with Team Taiko!\nWinter Session Mondays at 6:30 PM February 9 – March 30: \nTeam Taiko classes are broken into 8-week sessions\, with a different pattern taught during each session. Team Taiko can be purchased by session or by class. \n\nMonday\, February 9 – 6:30 PM\nMonday\, February 16 – 6:30 PM\nMonday\, February 23 – 6:30 PM\nMonday\, March 2 – 6:30 PM\nMonday\, March 9 – 6:30 PM\nMonday\, March 16 – 6:30 PM\nMonday\, March 23 – 6:30 PM\nMonday\, March 30 – 6:30 PM
URL:https://folkworks.org/event/team-taiko-drum-classes-winter-session/2026-03-02/
LOCATION:The Grand Annex\, 434 W. 6th St.\, San Pedro\, CA\, 90713\, United States
CATEGORIES:Music
ATTACH;FMTTYPE=image/webp:https://folkworks.org/wp-content/uploads/2026/01/24-Fall-Website-Image-3-1.webp
ORGANIZER;CN="Grand Vision Foundation":MAILTO:Info@grandvision.org
END:VEVENT
BEGIN:VEVENT
DTSTART;TZID=America/Los_Angeles:20260309T183000
DTEND;TZID=America/Los_Angeles:20260309T193000
DTSTAMP:20260420T093920
CREATED:20260121T012849Z
LAST-MODIFIED:20260121T012849Z
UID:10008726-1773081000-1773084600@folkworks.org
SUMMARY:TEAM TAIKO Drum Classes Winter Session
DESCRIPTION:Play the Japanese Drum with Team Taiko!\nWinter Session Mondays at 6:30 PM February 9 – March 30: \nTeam Taiko classes are broken into 8-week sessions\, with a different pattern taught during each session. Team Taiko can be purchased by session or by class. \n\nMonday\, February 9 – 6:30 PM\nMonday\, February 16 – 6:30 PM\nMonday\, February 23 – 6:30 PM\nMonday\, March 2 – 6:30 PM\nMonday\, March 9 – 6:30 PM\nMonday\, March 16 – 6:30 PM\nMonday\, March 23 – 6:30 PM\nMonday\, March 30 – 6:30 PM
URL:https://folkworks.org/event/team-taiko-drum-classes-winter-session/2026-03-09/
LOCATION:The Grand Annex\, 434 W. 6th St.\, San Pedro\, CA\, 90713\, United States
CATEGORIES:Music
ATTACH;FMTTYPE=image/webp:https://folkworks.org/wp-content/uploads/2026/01/24-Fall-Website-Image-3-1.webp
ORGANIZER;CN="Grand Vision Foundation":MAILTO:Info@grandvision.org
END:VEVENT
BEGIN:VEVENT
DTSTART;TZID=America/Los_Angeles:20260316T183000
DTEND;TZID=America/Los_Angeles:20260316T193000
DTSTAMP:20260420T093920
CREATED:20260121T012849Z
LAST-MODIFIED:20260121T012849Z
UID:10008727-1773685800-1773689400@folkworks.org
SUMMARY:TEAM TAIKO Drum Classes Winter Session
DESCRIPTION:Play the Japanese Drum with Team Taiko!\nWinter Session Mondays at 6:30 PM February 9 – March 30: \nTeam Taiko classes are broken into 8-week sessions\, with a different pattern taught during each session. Team Taiko can be purchased by session or by class. \n\nMonday\, February 9 – 6:30 PM\nMonday\, February 16 – 6:30 PM\nMonday\, February 23 – 6:30 PM\nMonday\, March 2 – 6:30 PM\nMonday\, March 9 – 6:30 PM\nMonday\, March 16 – 6:30 PM\nMonday\, March 23 – 6:30 PM\nMonday\, March 30 – 6:30 PM
URL:https://folkworks.org/event/team-taiko-drum-classes-winter-session/2026-03-16/
LOCATION:The Grand Annex\, 434 W. 6th St.\, San Pedro\, CA\, 90713\, United States
CATEGORIES:Music
ATTACH;FMTTYPE=image/webp:https://folkworks.org/wp-content/uploads/2026/01/24-Fall-Website-Image-3-1.webp
ORGANIZER;CN="Grand Vision Foundation":MAILTO:Info@grandvision.org
END:VEVENT
BEGIN:VEVENT
DTSTART;TZID=America/Los_Angeles:20260323T183000
DTEND;TZID=America/Los_Angeles:20260323T193000
DTSTAMP:20260420T093920
CREATED:20260121T012849Z
LAST-MODIFIED:20260121T012849Z
UID:10008728-1774290600-1774294200@folkworks.org
SUMMARY:TEAM TAIKO Drum Classes Winter Session
DESCRIPTION:Play the Japanese Drum with Team Taiko!\nWinter Session Mondays at 6:30 PM February 9 – March 30: \nTeam Taiko classes are broken into 8-week sessions\, with a different pattern taught during each session. Team Taiko can be purchased by session or by class. \n\nMonday\, February 9 – 6:30 PM\nMonday\, February 16 – 6:30 PM\nMonday\, February 23 – 6:30 PM\nMonday\, March 2 – 6:30 PM\nMonday\, March 9 – 6:30 PM\nMonday\, March 16 – 6:30 PM\nMonday\, March 23 – 6:30 PM\nMonday\, March 30 – 6:30 PM
URL:https://folkworks.org/event/team-taiko-drum-classes-winter-session/2026-03-23/
LOCATION:The Grand Annex\, 434 W. 6th St.\, San Pedro\, CA\, 90713\, United States
CATEGORIES:Music
ATTACH;FMTTYPE=image/webp:https://folkworks.org/wp-content/uploads/2026/01/24-Fall-Website-Image-3-1.webp
ORGANIZER;CN="Grand Vision Foundation":MAILTO:Info@grandvision.org
END:VEVENT
BEGIN:VEVENT
DTSTART;TZID=America/Los_Angeles:20260330T183000
DTEND;TZID=America/Los_Angeles:20260330T193000
DTSTAMP:20260420T093920
CREATED:20260121T012849Z
LAST-MODIFIED:20260121T012849Z
UID:10008729-1774895400-1774899000@folkworks.org
SUMMARY:TEAM TAIKO Drum Classes Winter Session
DESCRIPTION:Play the Japanese Drum with Team Taiko!\nWinter Session Mondays at 6:30 PM February 9 – March 30: \nTeam Taiko classes are broken into 8-week sessions\, with a different pattern taught during each session. Team Taiko can be purchased by session or by class. \n\nMonday\, February 9 – 6:30 PM\nMonday\, February 16 – 6:30 PM\nMonday\, February 23 – 6:30 PM\nMonday\, March 2 – 6:30 PM\nMonday\, March 9 – 6:30 PM\nMonday\, March 16 – 6:30 PM\nMonday\, March 23 – 6:30 PM\nMonday\, March 30 – 6:30 PM
URL:https://folkworks.org/event/team-taiko-drum-classes-winter-session/2026-03-30/
LOCATION:The Grand Annex\, 434 W. 6th St.\, San Pedro\, CA\, 90713\, United States
CATEGORIES:Music
ATTACH;FMTTYPE=image/webp:https://folkworks.org/wp-content/uploads/2026/01/24-Fall-Website-Image-3-1.webp
ORGANIZER;CN="Grand Vision Foundation":MAILTO:Info@grandvision.org
END:VEVENT
BEGIN:VEVENT
DTSTART;TZID=America/Los_Angeles:20260404T160000
DTEND;TZID=America/Los_Angeles:20260404T183000
DTSTAMP:20260420T093920
CREATED:20260121T015332Z
LAST-MODIFIED:20260121T015332Z
UID:10008739-1775318400-1775327400@folkworks.org
SUMMARY:VISIBLE – Mujō Dream Flight in Concert ft. Aki Oshiro
DESCRIPTION:Mujō Dream Flight (MDF) is the artistic vehicle of founding taiko artists Sasen Cain\, Yeeman “ManMan” Mui\, and Maxyn Rose Leitner. Based in Los Angeles\, they collaborate locally and globally with other predominantly trans/non-binary taiko artists\, creating both original works and traditional adaptations. MDF’s art centers dance and personal storytelling informed by their specific cultural backgrounds. \nThis spring\, MDF presents its first full-length concert in Los Angeles at the Grand Annex\, in celebration of Trans Day of Visibility. Entitled VISIBLE\, the show explores how we resist social erasure when our race\, gender\, class\, and disability are all under attack. As the group has expanded\, each new member has brought unique perspectives and skillsets\, enabling new dimensions of artistic expression. Synthesizing these\, VISIBLE aims to equip audiences with the understanding and courage to rebuild a more just society for everyone.
URL:https://folkworks.org/event/visible-mujo-dream-flight-in-concert-ft-aki-oshiro/
LOCATION:The Grand Annex\, 434 W. 6th St.\, San Pedro\, CA\, 90713\, United States
CATEGORIES:Music
ATTACH;FMTTYPE=image/png:https://folkworks.org/wp-content/uploads/2026/01/Mujo-Dream-Flight-1.png
ORGANIZER;CN="Grand Vision Foundation":MAILTO:Info@grandvision.org
END:VEVENT
END:VCALENDAR