BEGIN:VCALENDAR
VERSION:2.0
PRODID:-//FolkWorks - ECPv6.15.17.1//NONSGML v1.0//EN
CALSCALE:GREGORIAN
METHOD:PUBLISH
X-WR-CALNAME:FolkWorks
X-ORIGINAL-URL:https://folkworks.org
X-WR-CALDESC:Events for FolkWorks
REFRESH-INTERVAL;VALUE=DURATION:PT1H
X-Robots-Tag:noindex
X-PUBLISHED-TTL:PT1H
BEGIN:VTIMEZONE
TZID:America/Los_Angeles
BEGIN:DAYLIGHT
TZOFFSETFROM:-0800
TZOFFSETTO:-0700
TZNAME:PDT
DTSTART:20250309T100000
END:DAYLIGHT
BEGIN:STANDARD
TZOFFSETFROM:-0700
TZOFFSETTO:-0800
TZNAME:PST
DTSTART:20251102T090000
END:STANDARD
BEGIN:DAYLIGHT
TZOFFSETFROM:-0800
TZOFFSETTO:-0700
TZNAME:PDT
DTSTART:20260308T100000
END:DAYLIGHT
BEGIN:STANDARD
TZOFFSETFROM:-0700
TZOFFSETTO:-0800
TZNAME:PST
DTSTART:20261101T090000
END:STANDARD
BEGIN:DAYLIGHT
TZOFFSETFROM:-0800
TZOFFSETTO:-0700
TZNAME:PDT
DTSTART:20270314T100000
END:DAYLIGHT
BEGIN:STANDARD
TZOFFSETFROM:-0700
TZOFFSETTO:-0800
TZNAME:PST
DTSTART:20271107T090000
END:STANDARD
END:VTIMEZONE
BEGIN:VEVENT
DTSTART;TZID=America/Los_Angeles:20260420T190000
DTEND;TZID=America/Los_Angeles:20260420T210000
DTSTAMP:20260420T093235
CREATED:20240208T183513Z
LAST-MODIFIED:20251022T013004Z
UID:10005555-1776711600-1776718800@folkworks.org
SUMMARY:Orange County Celtic Jam
DESCRIPTION:We meet every Monday evening to play Celtic music. \nVenue: St. Paul’s Episcopal Church\n1221 Wass St.\, Tustin\, CA \nDoors open at 6:30 pm. Music at 7:00 pm. \n$3 donation for use of the room.\nTunes are chosen from the books in our Dropbox.\nOCCJ – Dropbox
URL:https://folkworks.org/event/orange-county-celtic-jam/2026-04-20/
LOCATION:St. Paul’s Episcopal Church\, 1221 Wass Street\, Tustin\, 92780\, United States
CATEGORIES:Music
ATTACH;FMTTYPE=image/jpeg:https://folkworks.org/wp-content/uploads/2024/02/Celtic-Music.jpg
ORGANIZER;CN="Michael Fahy":MAILTO:fahy6879@gmail.com
END:VEVENT
END:VCALENDAR